Workbook

Sheet питьевая вода
S1: Приложение № 9
R2: к постановлению администрации
R3: города Усолье - Сибирское
R4: от 15.12.2025 № 2331-па
B6: Долгосрочные параметры регулирования деятельности Концессионера в сфере водоснабжения (питьевая вода)
B8: Наименование показателей | C8: Ед.изм. | D8: Предыдущий период | G8: Период действия концессионного соглашения
B9: Базовый уровень операционных расходов | C9: тыс.руб | D9: 2020 | E9: =D9+1 -> 2021 | F9: =E9+1 -> 2022 | G9: 2025 | H9: =G9+1 -> 2026 | I9: =H9+1 -> 2027 | J9: =I9+1 -> 2028 | K9: =J9+1 -> 2029 | L9: =K9+1 -> 2030 | M9: =L9+1 -> 2031 | N9: =M9+1 -> 2032 | O9: =N9+1 -> 2033 | ... U9: =T9+1 -> 2039
G10: 180699.5
G11: =U9+1 -> 2040 | H11: =G11+1 -> 2041 | I11: =H11+1 -> 2042 | J11: =I11+1 -> 2043 | K11: =J11+1 -> 2044 | L11: =K11+1 -> 2045 | M11: =L11+1 -> 2046 | N11: =M11+1 -> 2047 | O11: =N11+1 -> 2048 | ... S11: =R11+1 -> 2052
B13: Индекс эффективности операционных расходов | C13: % | D13: 2020 | E13: =D13+1 -> 2021 | F13: =E13+1 -> 2022 | G13: 2025 | H13: =G13+1 -> 2026 | I13: =H13+1 -> 2027 | J13: =I13+1 -> 2028 | K13: =J13+1 -> 2029 | L13: =K13+1 -> 2030 | M13: =L13+1 -> 2031 | N13: =M13+1 -> 2032 | O13: =N13+1 -> 2033 | ... U13: =T13+1 -> 2039
D14: 1 | E14: 1 | F14: 1 | G14: 1 | H14: 1 | I14: 1 | J14: 1 | K14: 1 | L14: 1 | M14: 1 | N14: 1 | O14: 1 | P14: 1 | Q14: 1 | R14: 1 | S14: 1 | T14: 1 | U14: 1
G15: =U13+1 -> 2040 | H15: =G15+1 -> 2041 | I15: =H15+1 -> 2042 | J15: =I15+1 -> 2043 | K15: =J15+1 -> 2044 | L15: =K15+1 -> 2045 | M15: =L15+1 -> 2046 | N15: =M15+1 -> 2047 | O15: =N15+1 -> 2048 | ... S15: =R15+1 -> 2052
G16: 1 | H16: 1 | I16: 1 | J16: 1 | K16: 1 | L16: 1 | M16: 1 | N16: 1 | O16: 1 | P16: 1 | Q16: 1 | R16: 1 | S16: 1
B17: Нормативный уровень прибыли | C17: % | D17: 2020 | E17: =D17+1 -> 2021 | F17: =E17+1 -> 2022 | G17: 2025 | H17: =G17+1 -> 2026 | I17: =H17+1 -> 2027 | J17: =I17+1 -> 2028 | K17: =J17+1 -> 2029 | L17: =K17+1 -> 2030 | M17: =L17+1 -> 2031 | N17: =M17+1 -> 2032 | O17: =N17+1 -> 2033 | ... U17: =T17+1 -> 2039
H18: ='[1]Расчет прибыли'!D29 -> 0.075130365 | I18: ='[1]Расчет прибыли'!E29 -> 0.075117811 | J18: ='[1]Расчет прибыли'!F29 -> 0.075096791 | K18: ='[1]Расчет прибыли'!G29 -> 0.075077093 | L18: ='[1]Расчет прибыли'!H29 -> 0.075058258 | M18: ='[1]Расчет прибыли'!I29 -> 0.075041269 | N18: ='[1]Расчет прибыли'!J29 -> 0.075025442 | O18: ='[1]Расчет прибыли'!K29 -> 0.075010768 | ... U18: ='[1]Расчет прибыли'!Q29 -> 0.074945925
G19: =U17+1 -> 2040 | H19: =G19+1 -> 2041 | I19: =H19+1 -> 2042 | J19: =I19+1 -> 2043 | K19: =J19+1 -> 2044 | L19: =K19+1 -> 2045 | M19: =L19+1 -> 2046 | N19: =M19+1 -> 2047 | O19: =N19+1 -> 2048 | ... S19: =R19+1 -> 2052
G20: ='[1]Расчет прибыли'!R29 -> 0.074938604 | H20: ='[1]Расчет прибыли'!S29 -> 0.074932312 | I20: ='[1]Расчет прибыли'!T29 -> 0.074926711 | J20: ='[1]Расчет прибыли'!U29 -> 0.074922145 | K20: ='[1]Расчет прибыли'!V29 -> 0.074918317 | L20: ='[1]Расчет прибыли'!W29 -> 0.074915325 | M20: ='[1]Расчет прибыли'!X29 -> 0.074913139 | N20: ='[1]Расчет прибыли'!Y29 -> 0.074911619 | ... S20: ='[1]Расчет прибыли'!AD29 -> 0.0064212256
B21: Показатели энергосбережения и энергетической эффективности
B22: Доля потерь воды в централизованных системах водоснабжения при транспортировке в общем объеме воды, поданной в водопроводную сеть | C22: % | D22: 2020 | E22: =D22+1 -> 2021 | F22: =E22+1 -> 2022 | G22: 2025 | H22: =G22+1 -> 2026 | I22: =H22+1 -> 2027 | J22: =I22+1 -> 2028 | K22: =J22+1 -> 2029 | L22: =K22+1 -> 2030 | M22: =L22+1 -> 2031 | N22: =M22+1 -> 2032 | O22: =N22+1 -> 2033 | ... U22: =T22+1 -> 2039
D23: 10 | E23: 10 | F23: 10 | G23: 17.15 | H23: =[2]Лист2!G27 -> 17.15 | I23: =[2]Лист2!H27 -> 17.1129 | J23: =[2]Лист2!I27 -> 17.0758 | K23: =[2]Лист2!J27 -> 17.0387 | L23: =[2]Лист2!K27 -> 17.0016 | M23: =[2]Лист2!L27 -> 16.9645 | N23: =[2]Лист2!M27 -> 16.9274 | O23: =[2]Лист2!N27 -> 16.8903 | ... U23: =[2]Лист2!T27 -> 16.6677
G24: =U22+1 -> 2040 | H24: =G24+1 -> 2041 | I24: =H24+1 -> 2042 | J24: =I24+1 -> 2043 | K24: =J24+1 -> 2044 | L24: =K24+1 -> 2045 | M24: =L24+1 -> 2046 | N24: =M24+1 -> 2047 | O24: =N24+1 -> 2048 | ... S24: =R24+1 -> 2052
G25: =[2]Лист2!G29 -> 16.6306 | H25: =[2]Лист2!H29 -> 16.5935 | I25: =[2]Лист2!I29 -> 16.5564 | J25: =[2]Лист2!J29 -> 16.5193 | K25: =[2]Лист2!K29 -> 16.4822 | L25: =[2]Лист2!L29 -> 16.4451 | M25: =[2]Лист2!M29 -> 16.408 | N25: =[2]Лист2!N29 -> 16.3709 | ... S25: =[2]Лист2!S29 -> 16.1854
B26: Удельный расход электрической энергии, потребляемой в технологическом процессе поготовки питьевой воды, на единицу объема воды, отпускаемой в сеть | C26: кВт*ч/ куб.м | D26: 2020 | E26: =D26+1 -> 2021 | F26: =E26+1 -> 2022 | G26: 2025 | H26: =G26+1 -> 2026 | I26: =H26+1 -> 2027 | J26: =I26+1 -> 2028 | K26: =J26+1 -> 2029 | L26: =K26+1 -> 2030 | M26: =L26+1 -> 2031 | N26: =M26+1 -> 2032 | O26: =N26+1 -> 2033 | ... U26: =T26+1 -> 2039
D27: 1.1 | E27: 1.1 | F27: 1.1 | G27: 0.7 | H27: 0.7 | I27: 0.7 | J27: 0.7 | K27: 0.7 | L27: 0.7 | M27: 0.7 | N27: 0.7 | O27: 0.7 | P27: 0.7 | Q27: 0.7 | R27: 0.7 | S27: 0.7 | T27: 0.7 | U27: 0.7
G28: =U26+1 -> 2040 | H28: =G28+1 -> 2041 | I28: =H28+1 -> 2042 | J28: =I28+1 -> 2043 | K28: =J28+1 -> 2044 | L28: =K28+1 -> 2045 | M28: =L28+1 -> 2046 | N28: =M28+1 -> 2047 | O28: =N28+1 -> 2048 | ... S28: =R28+1 -> 2052
G29: 0.7 | H29: 0.7 | I29: 0.7 | J29: 0.7 | K29: 0.7 | L29: 0.7 | M29: 0.7 | N29: 0.7 | O29: 0.7 | P29: 0.7 | Q29: 0.7 | R29: 0.7 | S29: 0.7
B32: Мэр города М.В. Торопкин

Sheet техническая вода
S1: Приложение № 8
R2: к постановлению администрации
R3: города Усолье - Сибирское
R4: от 15.12.2025 № 2331-па
B6: Долгосрочные параметры регулирования деятельности Концессионера в сфере водоснабжения (техническая вода)
B8: Наименование показателей | C8: Ед.изм. | D8: Предыдущий период | G8: Период действия концессионного соглашения
B9: Базовый уровень операционных расходов | C9: тыс.руб | D9: 2020 | E9: =D9+1 -> 2021 | F9: =E9+1 -> 2022 | G9: 2025 | H9: =G9+1 -> 2026 | I9: =H9+1 -> 2027 | J9: =I9+1 -> 2028 | K9: =J9+1 -> 2029 | L9: =K9+1 -> 2030 | M9: =L9+1 -> 2031 | N9: =M9+1 -> 2032 | O9: =N9+1 -> 2033 | ... U9: =T9+1 -> 2039
G10: 20077.7
G11: =U9+1 -> 2040 | H11: =G11+1 -> 2041 | I11: =H11+1 -> 2042 | J11: =I11+1 -> 2043 | K11: =J11+1 -> 2044 | L11: =K11+1 -> 2045 | M11: =L11+1 -> 2046 | N11: =M11+1 -> 2047 | O11: =N11+1 -> 2048 | ... S11: =R11+1 -> 2052
B13: Индекс эффективности операционных расходов | C13: % | D13: 2020 | E13: =D13+1 -> 2021 | F13: =E13+1 -> 2022 | G13: 2025 | H13: =G13+1 -> 2026 | I13: =H13+1 -> 2027 | J13: =I13+1 -> 2028 | K13: =J13+1 -> 2029 | L13: =K13+1 -> 2030 | M13: =L13+1 -> 2031 | N13: =M13+1 -> 2032 | O13: =N13+1 -> 2033 | ... U13: =T13+1 -> 2039
D14: 1 | E14: 1 | F14: 1 | G14: 1 | H14: 1 | I14: 1 | J14: 1 | K14: 1 | L14: 1 | M14: 1 | N14: 1 | O14: 1 | P14: 1 | Q14: 1 | R14: 1 | S14: 1 | T14: 1 | U14: 1
G15: =U13+1 -> 2040 | H15: =G15+1 -> 2041 | I15: =H15+1 -> 2042 | J15: =I15+1 -> 2043 | K15: =J15+1 -> 2044 | L15: =K15+1 -> 2045 | M15: =L15+1 -> 2046 | N15: =M15+1 -> 2047 | O15: =N15+1 -> 2048 | ... S15: =R15+1 -> 2052
G16: 1 | H16: 1 | I16: 1 | J16: 1 | K16: 1 | L16: 1 | M16: 1 | N16: 1 | O16: 1 | P16: 1 | Q16: 1 | R16: 1 | S16: 1
B17: Нормативный уровень прибыли | C17: % | D17: 2020 | E17: =D17+1 -> 2021 | F17: =E17+1 -> 2022 | G17: 2025 | H17: =G17+1 -> 2026 | I17: =H17+1 -> 2027 | J17: =I17+1 -> 2028 | K17: =J17+1 -> 2029 | L17: =K17+1 -> 2030 | M17: =L17+1 -> 2031 | N17: =M17+1 -> 2032 | O17: =N17+1 -> 2033 | ... U17: =T17+1 -> 2039
H18: ='[1]Расчет прибыли'!D59 -> 0.083186347 | I18: ='[1]Расчет прибыли'!E59 -> 0.083071965 | J18: ='[1]Расчет прибыли'!F59 -> 0.082977371 | K18: ='[1]Расчет прибыли'!G59 -> 0.082887047 | L18: ='[1]Расчет прибыли'!H59 -> 0.082799826 | M18: ='[1]Расчет прибыли'!I59 -> 0.082717163 | N18: ='[1]Расчет прибыли'!J59 -> 0.082637618 | O18: ='[1]Расчет прибыли'!K59 -> 0.082562231 | ... U18: ='[1]Расчет прибыли'!Q59 -> 0.082173347
G19: =U17+1 -> 2040 | H19: =G19+1 -> 2041 | I19: =H19+1 -> 2042 | J19: =I19+1 -> 2043 | K19: =J19+1 -> 2044 | L19: =K19+1 -> 2045 | M19: =L19+1 -> 2046 | N19: =M19+1 -> 2047 | O19: =N19+1 -> 2048 | ... S19: =R19+1 -> 2052
G20: ='[1]Расчет прибыли'!R59 -> 0.082118832 | H20: ='[1]Расчет прибыли'!S59 -> 0.082065732 | I20: ='[1]Расчет прибыли'!T59 -> 0.082015455 | J20: ='[1]Расчет прибыли'!U59 -> 0.08196732 | K20: ='[1]Расчет прибыли'!V59 -> 0.081920572 | L20: ='[1]Расчет прибыли'!W59 -> 0.081877598 | M20: ='[1]Расчет прибыли'!X59 -> 0.081835638 | N20: ='[1]Расчет прибыли'!Y59 -> 0.081795122 | ... S20: ='[1]Расчет прибыли'!AD59 -> 0.011415052
B21: Показатели энергосбережения и энергетической эффективности
B22: Доля потерь воды в централизованных системах водоснабжения при транспортировке в общем объеме воды, поданной в водопроводную сеть | C22: % | D22: 2020 | E22: =D22+1 -> 2021 | F22: =E22+1 -> 2022 | G22: 2025 | H22: =G22+1 -> 2026 | I22: =H22+1 -> 2027 | J22: =I22+1 -> 2028 | K22: =J22+1 -> 2029 | L22: =K22+1 -> 2030 | M22: =L22+1 -> 2031 | N22: =M22+1 -> 2032 | O22: =N22+1 -> 2033 | ... U22: =T22+1 -> 2039
D23: 10 | E23: 10 | F23: 10 | G23: 10.82 | H23: 10.82 | I23: 10.82 | J23: 10.82 | K23: 10.82 | L23: 10.82 | M23: 10.82 | N23: 10.82 | O23: 10.82 | P23: 10.82 | Q23: 10.82 | R23: 10.82 | S23: 10.82 | T23: 10.82 | U23: 10.82
G24: =U22+1 -> 2040 | H24: =G24+1 -> 2041 | I24: =H24+1 -> 2042 | J24: =I24+1 -> 2043 | K24: =J24+1 -> 2044 | L24: =K24+1 -> 2045 | M24: =L24+1 -> 2046 | N24: =M24+1 -> 2047 | O24: =N24+1 -> 2048 | ... S24: =R24+1 -> 2052
G25: 10.82 | H25: 10.82 | I25: 10.82 | J25: 10.82 | K25: 10.82 | L25: 10.82 | M25: 10.82 | N25: 10.82 | O25: 10.82 | P25: 10.82 | Q25: 10.82 | R25: 10.82 | S25: 10.82
B26: Удельный расход электрической энергии, потребляемой в технологическом процессе поготовки технической воды, на единицу объема воды, отпускаемой в сеть | C26: кВт*ч/ куб.м | D26: 2020 | E26: =D26+1 -> 2021 | F26: =E26+1 -> 2022 | G26: 2025 | H26: =G26+1 -> 2026 | I26: =H26+1 -> 2027 | J26: =I26+1 -> 2028 | K26: =J26+1 -> 2029 | L26: =K26+1 -> 2030 | M26: =L26+1 -> 2031 | N26: =M26+1 -> 2032 | O26: =N26+1 -> 2033 | ... U26: =T26+1 -> 2039
D27: 0.74 | E27: 0.74 | F27: 0.74 | G27: 0.5 | H27: 0.5 | I27: 0.5 | J27: 0.5 | K27: 0.5 | L27: 0.5 | M27: 0.5 | N27: 0.5 | O27: 0.5 | P27: 0.5 | Q27: 0.5 | R27: 0.5 | S27: 0.5 | T27: 0.5 | U27: 0.5
G28: =U26+1 -> 2040 | H28: =G28+1 -> 2041 | I28: =H28+1 -> 2042 | J28: =I28+1 -> 2043 | K28: =J28+1 -> 2044 | L28: =K28+1 -> 2045 | M28: =L28+1 -> 2046 | N28: =M28+1 -> 2047 | O28: =N28+1 -> 2048 | ... S28: =R28+1 -> 2052
G29: 0.5 | H29: 0.5 | I29: 0.5 | J29: 0.5 | K29: 0.5 | L29: 0.5 | M29: 0.5 | N29: 0.5 | O29: 0.5 | P29: 0.5 | Q29: 0.5 | R29: 0.5 | S29: 0.5
B32: Мэр города М.В. Торопкин

Sheet водоотведение
S1: Приложение № 7
R2: к постановлению администрации
R3: города Усолье - Сибирское
R4: от 15.12.2025 № 2331-па
B6: Долгосрочные параметры регулирования деятельности Концессионера в сфере водоотведения
B8: Наименование показателей | C8: Ед.изм. | D8: Предыдущий период | G8: Период действия концессионного соглашения
B9: Базовый уровень операционных расходов | C9: тыс.руб | D9: 2020 | E9: =D9+1 -> 2021 | F9: =E9+1 -> 2022 | G9: 2025 | H9: =G9+1 -> 2026 | I9: =H9+1 -> 2027 | J9: =I9+1 -> 2028 | K9: =J9+1 -> 2029 | L9: =K9+1 -> 2030 | M9: =L9+1 -> 2031 | N9: =M9+1 -> 2032 | O9: =N9+1 -> 2033 | ... U9: =T9+1 -> 2039
G10: 190907.5
G11: =U9+1 -> 2040 | H11: =G11+1 -> 2041 | I11: =H11+1 -> 2042 | J11: =I11+1 -> 2043 | K11: =J11+1 -> 2044 | L11: =K11+1 -> 2045 | M11: =L11+1 -> 2046 | N11: =M11+1 -> 2047 | O11: =N11+1 -> 2048 | ... S11: =R11+1 -> 2052
B13: Индекс эффективности операционных расходов | C13: % | D13: 2020 | E13: =D13+1 -> 2021 | F13: =E13+1 -> 2022 | G13: 2025 | H13: =G13+1 -> 2026 | I13: =H13+1 -> 2027 | J13: =I13+1 -> 2028 | K13: =J13+1 -> 2029 | L13: =K13+1 -> 2030 | M13: =L13+1 -> 2031 | N13: =M13+1 -> 2032 | O13: =N13+1 -> 2033 | ... U13: =T13+1 -> 2039
D14: 1 | E14: 1 | F14: 1 | G14: 1 | H14: 1 | I14: 1 | J14: 1 | K14: 1 | L14: 1 | M14: 1 | N14: 1 | O14: 1 | P14: 1 | Q14: 1 | R14: 1 | S14: 1 | T14: 1 | U14: 1
G15: =U13+1 -> 2040 | H15: =G15+1 -> 2041 | I15: =H15+1 -> 2042 | J15: =I15+1 -> 2043 | K15: =J15+1 -> 2044 | L15: =K15+1 -> 2045 | M15: =L15+1 -> 2046 | N15: =M15+1 -> 2047 | O15: =N15+1 -> 2048 | ... S15: =R15+1 -> 2052
G16: 1 | H16: 1 | I16: 1 | J16: 1 | K16: 1 | L16: 1 | M16: 1 | N16: 1 | O16: 1 | P16: 1 | Q16: 1 | R16: 1 | S16: 1
B17: Нормативный уровень прибыли | C17: % | D17: 2020 | E17: =D17+1 -> 2021 | F17: =E17+1 -> 2022 | G17: 2025 | H17: =G17+1 -> 2026 | I17: =H17+1 -> 2027 | J17: =I17+1 -> 2028 | K17: =J17+1 -> 2029 | L17: =K17+1 -> 2030 | M17: =L17+1 -> 2031 | N17: =M17+1 -> 2032 | O17: =N17+1 -> 2033 | ... U17: =T17+1 -> 2039
H18: ='[1]Расчет прибыли'!D91 -> 0.079567501 | I18: ='[1]Расчет прибыли'!E91 -> 0.079586595 | J18: ='[1]Расчет прибыли'!F91 -> 0.079586729 | K18: ='[1]Расчет прибыли'!G91 -> 0.079588139 | L18: ='[1]Расчет прибыли'!H91 -> 0.079591272 | M18: ='[1]Расчет прибыли'!I91 -> 0.07959604 | N18: ='[1]Расчет прибыли'!J91 -> 0.079602606 | O18: ='[1]Расчет прибыли'!K91 -> 0.079610309 | ... U18: ='[1]Расчет прибыли'!Q91 -> 0.07968567
G19: =U17+1 -> 2040 | H19: =G19+1 -> 2041 | I19: =H19+1 -> 2042 | J19: =I19+1 -> 2043 | K19: =J19+1 -> 2044 | L19: =K19+1 -> 2045 | M19: =L19+1 -> 2046 | N19: =M19+1 -> 2047 | O19: =N19+1 -> 2048 | ... S19: =R19+1 -> 2052
G20: ='[1]Расчет прибыли'!R91 -> 0.079702288 | H20: ='[1]Расчет прибыли'!S91 -> 0.079720313 | I20: ='[1]Расчет прибыли'!T91 -> 0.079739095 | J20: ='[1]Расчет прибыли'!U91 -> 0.079759176 | K20: ='[1]Расчет прибыли'!V91 -> 0.079779949 | L20: ='[1]Расчет прибыли'!W91 -> 0.079801685 | M20: ='[1]Расчет прибыли'!X91 -> 0.079824495 | N20: ='[1]Расчет прибыли'!Y91 -> 0.079847912 | ... S20: ='[1]Расчет прибыли'!AD91 -> 0.011425252
B21: Показатели энергосбережения и энергетической эффективности
B22: Удельный расход электрической энергии, потребляемой в технологическом процессе очистки сточных вод, на единицу объема | C22: кВт*ч/ куб.м | D22: 2020 | E22: =D22+1 -> 2021 | F22: =E22+1 -> 2022 | G22: 2025 | H22: =G22+1 -> 2026 | I22: =H22+1 -> 2027 | J22: =I22+1 -> 2028 | K22: =J22+1 -> 2029 | L22: =K22+1 -> 2030 | M22: =L22+1 -> 2031 | N22: =M22+1 -> 2032 | O22: =N22+1 -> 2033 | ... U22: =T22+1 -> 2039
D23: 1.35 | E23: 1.35 | F23: 1.35 | G23: 1.09 | H23: 1.09 | I23: 1.09 | J23: 1.09 | K23: 1.09 | L23: 1.09 | M23: 1.09 | N23: 1.09 | O23: 1.09 | P23: 1.09 | Q23: 1.09 | R23: 1.09 | S23: 1.09 | T23: 1.09 | U23: 1.09
G24: =U22+1 -> 2040 | H24: =G24+1 -> 2041 | I24: =H24+1 -> 2042 | J24: =I24+1 -> 2043 | K24: =J24+1 -> 2044 | L24: =K24+1 -> 2045 | M24: =L24+1 -> 2046 | N24: =M24+1 -> 2047 | O24: =N24+1 -> 2048 | ... S24: =R24+1 -> 2052
G25: 1.09 | H25: 1.09 | I25: 1.09 | J25: 1.09 | K25: 1.09 | L25: 1.09 | M25: 1.09 | N25: 1.09 | O25: 1.09 | P25: 1.09 | Q25: 1.09 | R25: 1.09 | S25: 1.09
B28: Мэр города М.В. Торопкин
